BEGIN:VCALENDAR
VERSION:2.0
PRODID:icalendar-ruby
CALSCALE:GREGORIAN
METHOD:PUBLISH
BEGIN:VEVENT
DTSTAMP:20260422T013547Z
UID:10-995336@florencealliance.org
DTSTART:20260927T144500Z
DTEND:20260927T160000Z
CLASS:PUBLIC
CREATED:20260421T201318
DESCRIPTION:
LAST-MODIFIED:20260421T201318
LOCATION:at church\, 980 Cayton Road\, Florence
SUMMARY:Sunday Morning Worship!
URL;VALUE=URI:https://www.florencealliance.org/events/sunday-morning-worshi
 p/2026-09-27
ATTACH;FILENAME=Worship-1.jpg;FMTTYPE=image/jpeg:https://dq5pwpg1q8ru0.clou
 dfront.net/2024/08/12/15/03/28/d330f808-33c6-4fd0-962b-b2dce85ad25c/Worshi
 p-1.jpg
ATTACH;FILENAME=IMG_20210412_154633278.jpg;FMTTYPE=image/jpeg:https://dq5pw
 pg1q8ru0.cloudfront.net/2024/08/12/15/03/28/556e6299-79a2-4588-bc26-7d5d47
 04f960/IMG_20210412_154633278.jpg
ATTACH;FILENAME=20240908_105246.jpg;FMTTYPE=image/jpeg:https://dq5pwpg1q8ru
 0.cloudfront.net/2024/09/09/14/52/05/c35c6bc9-32a1-4d7d-b3b7-5280d3f1c921/
 20240908_105246.jpg
ATTACH;FILENAME=20240908_104814.jpg;FMTTYPE=image/jpeg:https://dq5pwpg1q8ru
 0.cloudfront.net/2024/09/09/14/52/05/a3d27eca-843b-4216-89c8-4c05c8202926/
 20240908_104814.jpg
ATTACH;FILENAME=20240908_105658.jpg;FMTTYPE=image/jpeg:https://dq5pwpg1q8ru
 0.cloudfront.net/2024/09/09/14/52/06/1c66580b-d472-474b-981b-5d921bec7950/
 20240908_105658.jpg
END:VEVENT
END:VCALENDAR
