BEGIN:VCALENDAR
VERSION:2.0
PRODID:icalendar-ruby
CALSCALE:GREGORIAN
METHOD:PUBLISH
BEGIN:VEVENT
DTSTAMP:20260421T153934Z
UID:105-992820@florencealliance.org
DTSTART:20260816T133000Z
DTEND:20260816T143000Z
CLASS:PUBLIC
CREATED:20260421T094147
DESCRIPTION:
LAST-MODIFIED:20260421T094147
LOCATION:Tozer room\, FAC
SUMMARY:Life Group - Study of 2 Samuel
URL;VALUE=URI:https://www.florencealliance.org/events/life-group-study-of-2
 -samuel/2026-08-16
ATTACH;FILENAME=2-Samuel.jpg;FMTTYPE=image/jpeg:https://dq5pwpg1q8ru0.cloud
 front.net/2026/01/12/15/30/55/a00335e9-be7c-4710-abcd-f304c589187b/2-Samue
 l.jpg
END:VEVENT
END:VCALENDAR
